BEGIN:VCALENDAR
PRODID:-//github.com/rianjs/ical.net//NONSGML ical.net 4.0//EN
VERSION:2.0
BEGIN:VEVENT
DESCRIPTION:Åpen dag kl. 15-18
DTEND:20250127T180000
DTSTAMP:20260422T153939Z
DTSTART:20250127T150000
LOCATION:Nydalen videregående skole
SEQUENCE:0
SUMMARY:Åpen dag kl. 15-18
UID:42bc427e-7a48-4ca5-9901-708ecbfbdb36
END:VEVENT
END:VCALENDAR
